BEGIN:VCALENDAR
VERSION:2.0
PRODID:-//Reparaturcafe-Oftersheim - ECPv6.15.16//NONSGML v1.0//EN
CALSCALE:GREGORIAN
METHOD:PUBLISH
X-WR-CALNAME:Reparaturcafe-Oftersheim
X-ORIGINAL-URL:https://reparaturcafe-oftersheim.de
X-WR-CALDESC:Veranstaltungen für Reparaturcafe-Oftersheim
REFRESH-INTERVAL;VALUE=DURATION:PT1H
X-Robots-Tag:noindex
X-PUBLISHED-TTL:PT1H
BEGIN:VTIMEZONE
TZID:Europe/Berlin
BEGIN:DAYLIGHT
TZOFFSETFROM:+0100
TZOFFSETTO:+0200
TZNAME:CEST
DTSTART:20250330T010000
END:DAYLIGHT
BEGIN:STANDARD
TZOFFSETFROM:+0200
TZOFFSETTO:+0100
TZNAME:CET
DTSTART:20251026T010000
END:STANDARD
BEGIN:DAYLIGHT
TZOFFSETFROM:+0100
TZOFFSETTO:+0200
TZNAME:CEST
DTSTART:20260329T010000
END:DAYLIGHT
BEGIN:STANDARD
TZOFFSETFROM:+0200
TZOFFSETTO:+0100
TZNAME:CET
DTSTART:20261025T010000
END:STANDARD
BEGIN:DAYLIGHT
TZOFFSETFROM:+0100
TZOFFSETTO:+0200
TZNAME:CEST
DTSTART:20270328T010000
END:DAYLIGHT
BEGIN:STANDARD
TZOFFSETFROM:+0200
TZOFFSETTO:+0100
TZNAME:CET
DTSTART:20271031T010000
END:STANDARD
END:VTIMEZONE
BEGIN:VEVENT
DTSTART;TZID=Europe/Berlin:20260228T150000
DTEND;TZID=Europe/Berlin:20260228T180000
DTSTAMP:20260420T090501
CREATED:20260216T185312Z
LAST-MODIFIED:20260216T185331Z
UID:194-1772290800-1772301600@reparaturcafe-oftersheim.de
SUMMARY:Reparaturcafé Februar 2026
DESCRIPTION:Reparaturcafé Februar 2026
URL:https://reparaturcafe-oftersheim.de/veranstaltung/reparaturcafe-februar-2026/
LOCATION:eSport Rhein-Neckar\, Mannheimer Str. 57a\, Oftersheim\, BW\, 68723\, Germany
END:VEVENT
END:VCALENDAR